BEGIN:VCALENDAR
VERSION:2.0
PRODID:-//Squarespace Inc/Squarespace 6//v6//EN
BEGIN:VEVENT
UID:60138d211cd66236812599b2@squarespace.com
DTSTAMP:20210129T042208Z
DTSTART:20210308T123000Z
DTEND:20210308T230000Z
SUMMARY:Centre Closed
GEO:-37.768758;145.013698
LOCATION:Clifton Street Children's Centrea\, 55 Clifton Street\, Northcote\
 , VIC\, 3070\, Australia
END:VEVENT
END:VCALENDAR
