BEGIN:VCALENDAR
VERSION:2.0
PRODID:-//Squarespace Inc/Squarespace 6//v6//EN
BEGIN:VEVENT
UID:5e20e8f4599a244d6bab1344@squarespace.com
DTSTAMP:20200116T225400Z
DTSTART:20200127T123000Z
DTEND:20200127T133000Z
SUMMARY:Centre Closed - Public Holiday
END:VEVENT
END:VCALENDAR
