BEGIN:VCALENDAR
VERSION:2.0
PRODID:-//Squarespace Inc/Squarespace 6//v6//EN
BEGIN:VEVENT
UID:5e20e83512540e1f1c693835@squarespace.com
DTSTAMP:20200116T225037Z
DTSTART:20200113T123000Z
DTEND:20200113T133000Z
SUMMARY:Welcome 2020!
END:VEVENT
END:VCALENDAR
