BEGIN:VCALENDAR
VERSION:2.0
PRODID:-//Squarespace Inc/Squarespace 6//v6//EN
BEGIN:VEVENT
UID:5c174461aa4a99be1d7af1e5@squarespace.com
DTSTAMP:20181217T064114Z
DTSTART:20190726T040100Z
DTEND:20190727T035900Z
SUMMARY:National Tree Day
END:VEVENT
END:VCALENDAR
