BEGIN:VCALENDAR
VERSION:2.0
PRODID:-//Squarespace Inc/Squarespace 6//v6//EN
BEGIN:VEVENT
UID:5c1742b870a6ad42158f6efd@squarespace.com
DTSTAMP:20181217T064238Z
DTSTART:20190308T050100Z
DTEND:20190309T045900Z
SUMMARY:International Womens Day
END:VEVENT
END:VCALENDAR
