BEGIN:VCALENDAR
VERSION:2.0
PRODID:-//Squarespace Inc/Squarespace 6//v6//EN
BEGIN:VEVENT
UID:5c1734b78985833d5f4cfab2@squarespace.com
DTSTAMP:20181217T063105Z
DTSTART:20190331T003000Z
DTEND:20190331T013000Z
SUMMARY:Earth Hour
END:VEVENT
END:VCALENDAR
