BEGIN:VCALENDAR
VERSION:2.0
PRODID:-//Squarespace Inc/Squarespace 6//v6//EN
BEGIN:VEVENT
UID:5c1733ce562fa7836b3af899@squarespace.com
DTSTAMP:20181217T053043Z
DTSTART:20190321T053000Z
DTEND:20190321T063000Z
SUMMARY:Harmony Day
END:VEVENT
END:VCALENDAR
