BEGIN:VCALENDAR
VERSION:2.0
PRODID:-//Squarespace Inc/Squarespace 6//v6//EN
BEGIN:VEVENT
UID:5c1745fa352f53eec971c4b4@squarespace.com
DTSTAMP:20181217T064700Z
DTSTART:20191017T220000Z
DTEND:20191018T000000Z
SUMMARY:CSCC Annual General Meeting
END:VEVENT
END:VCALENDAR
