BEGIN:VCALENDAR
VERSION:2.0
PRODID:-//Squarespace Inc/Squarespace 6//v6//EN
BEGIN:VEVENT
UID:5c199ac888251ba53bf9cc7c@squarespace.com
DTSTAMP:20181219T011359Z
DTSTART:20190125T003000Z
DTEND:20190125T020000Z
SUMMARY:Committee Meeting
END:VEVENT
END:VCALENDAR
